BEGIN:VCALENDAR
VERSION:2.0
PRODID:-//ChamberMaster//Event Calendar 2.0//EN
METHOD:PUBLISH
X-PUBLISHED-TTL:P3D
REFRESH-INTERVAL:P3D
CALSCALE:GREGORIAN
BEGIN:VEVENT
DTSTART:20160821T220000Z
DTEND:20160822T000000Z
X-MICROSOFT-CDO-ALLDAYEVENT:FALSE
SUMMARY:Methodist Church Ice Cream Social
DESCRIPTION:Serving maid-rites\, beans\, potato salad\, pie and ice cream
X-ALT-DESC;FMTTYPE=text/html:Serving maid-rites\, beans\, potato salad\, pie and ice cream
LOCATION:DeWitt United Methodist Church 222 12th St. DeWitt\, IA
UID:e.1774.1499
SEQUENCE:3
DTSTAMP:20260420T092836Z
URL:https://business.dewittiowa.org/events/details/methodist-church-ice-cream-social-08-21-2016-1499
END:VEVENT

END:VCALENDAR
