BEGIN:VCALENDAR
VERSION:2.0
PRODID:-//ChamberMaster//Event Calendar 2.0//EN
METHOD:PUBLISH
X-PUBLISHED-TTL:P3D
REFRESH-INTERVAL:P3D
CALSCALE:GREGORIAN
BEGIN:VEVENT
DTSTART:20150830T220000Z
DTEND:20150831T000000Z
X-MICROSOFT-CDO-ALLDAYEVENT:FALSE
SUMMARY:Methodist Church Ice Cream Social
DESCRIPTION:Ice Cream Social
X-ALT-DESC;FMTTYPE=text/html:Ice Cream Social
LOCATION:DeWitt United Methodist Church 222 12th Street\, DeWitt
UID:e.1774.920
SEQUENCE:3
DTSTAMP:20260421T061524Z
URL:https://business.dewittiowa.org/events/details/methodist-church-ice-cream-social-08-30-2015-920
END:VEVENT

END:VCALENDAR
