BEGIN:VCALENDAR
VERSION:2.0
PRODID:-//ChamberMaster//Event Calendar 2.0//EN
METHOD:PUBLISH
X-PUBLISHED-TTL:P3D
REFRESH-INTERVAL:P3D
CALSCALE:GREGORIAN
BEGIN:VEVENT
DTSTART:20151009T170000Z
DTEND:20151009T200000Z
X-MICROSOFT-CDO-ALLDAYEVENT:FALSE
SUMMARY:MFGDAY15
DESCRIPTION:Manufacturing Day Celebration with local students and businesses.  CLICK HERE for more information.
X-ALT-DESC;FMTTYPE=text/html:Manufacturing Day Celebration with local students and businesses. &nbsp\;<a href="http://cloud.chambermaster.com/userfiles/UserFiles/chambers/1774/File/MFGD15prelim.pdf">CLICK HERE for more information.</a> &nbsp\;
LOCATION:Central High School
UID:e.1774.1000
SEQUENCE:3
DTSTAMP:20260421T012449Z
URL:https://business.dewittiowa.org/events/details/mfgday15-10-09-2015-1000
END:VEVENT

END:VCALENDAR
