BEGIN:VCALENDAR
VERSION:2.0
PRODID:-//ChamberMaster//Event Calendar 2.0//EN
METHOD:PUBLISH
X-PUBLISHED-TTL:P3D
REFRESH-INTERVAL:P3D
CALSCALE:GREGORIAN
BEGIN:VEVENT
DTSTART:20150227T170000Z
DTEND:20150227T210000Z
X-MICROSOFT-CDO-ALLDAYEVENT:FALSE
SUMMARY:Million Hearts Initiative
DESCRIPTION:The Women's Health Services will be raising awareness for the National Million Hearts initiative\, which is to prevent 1 million heart attacks and strokes by 2017. They will be handing out heart healthy materials and have an opportunity to win a Fitbit wristband.
X-ALT-DESC;FMTTYPE=text/html:The Women&#39\;s Health Services will be raising awareness for the National Million Hearts initiative\, which is to prevent 1 million heart attacks and strokes by 2017. They will be handing out heart healthy materials and have an opportunity to win a Fitbit wristband.
LOCATION:Frances Banta Waggoner Community Library 505 10th St. DeWitt
UID:e.1774.291
SEQUENCE:3
DTSTAMP:20260421T142350Z
URL:https://business.dewittiowa.org/events/details/million-hearts-initiative-02-27-2015-291
END:VEVENT

END:VCALENDAR
