BEGIN:VCALENDAR
VERSION:2.0
PRODID:-//ChamberMaster//Event Calendar 2.0//EN
METHOD:PUBLISH
X-PUBLISHED-TTL:P3D
REFRESH-INTERVAL:P3D
CALSCALE:GREGORIAN
BEGIN:VEVENT
DTSTART:20140707T150000Z
DTEND:20140712T233000Z
X-MICROSOFT-CDO-ALLDAYEVENT:FALSE
SUMMARY:Missoula Children's Theater production of "Treasure Island"
DESCRIPTION:The Missoula Children's Theater takes pride in presenting\, TREASURE ISLAND\, an original adaptation of Robert Louis Stevenson's epic novel. Young Jim Hawkins\, a mischievous lad\, lives with his Mother and six Sisters in a seaside village on the coast of Maine. The year is 1782 and the American War for Revolution is in its last days. Longing for adventure\, Jim comes under the hypnotic spell of the legendary pirate\, Long John Silver. While waiting tables in the family Inn\, Jim finds a treasure map and\, with the villainous Silver as his seeming mentor\, sails uncharted seas with only the ragged map and a flock of Gulls as guides. Always up for adventure\, Jim's Ruffian friends say farewell to their Village parents and serve as cabin boys for Silver and his band of hilarious (although unsavory) Pirate types. Once on the island\, nights are sleepless as true colors are revealed in our hero's quest for the proverbial happy ending. Then - at last - the treasure is found and hand in hand we're homeward bound. TREASURE ISLAND - it'll shiver your timbers!
X-ALT-DESC;FMTTYPE=text/html:The Missoula Children&#39\;s Theater takes pride in presenting\, TREASURE ISLAND\, an original adaptation of Robert Louis Stevenson&#39\;s epic novel. Young Jim Hawkins\, a mischievous lad\, lives with his Mother and six Sisters in a seaside village on the coast of Maine. The year is 1782 and the American War for Revolution is in its last days. Longing for adventure\, Jim comes under the hypnotic spell of the legendary pirate\, Long John Silver. While waiting tables in the family Inn\, Jim finds a treasure map and\, with the villainous Silver as his seeming mentor\, sails uncharted seas with only the ragged map and a flock of Gulls as guides. Always up for adventure\, Jim&#39\;s Ruffian friends say farewell to their Village parents and serve as cabin boys for Silver and his band of hilarious (although unsavory) Pirate types. Once on the island\, nights are sleepless as true colors are revealed in our hero&#39\;s quest for the proverbial happy ending. Then - at last - the treasure is found and hand in hand we&#39\;re homeward bound. TREASURE ISLAND - it&#39\;ll shiver your timbers!
LOCATION:Central Performing Arts Center 519 E. 11th Street DeWitt\, Iowa 52742 (located on the Central High School Campus)
UID:e.1774.73
SEQUENCE:3
DTSTAMP:20260422T011432Z
URL:https://business.dewittiowa.org/events/details/missoula-children-s-theater-production-of-treasure-island-07-07-2014-73
END:VEVENT

END:VCALENDAR
