BEGIN:VCALENDAR
VERSION:2.0
PRODID:-//ChamberMaster//Event Calendar 2.0//EN
METHOD:PUBLISH
X-PUBLISHED-TTL:P3D
REFRESH-INTERVAL:P3D
CALSCALE:GREGORIAN
BEGIN:VEVENT
DTSTART:20160708T160000Z
DTEND:20160708T170000Z
X-MICROSOFT-CDO-ALLDAYEVENT:FALSE
SUMMARY:MOD at Barnes Brat Stand
DESCRIPTION:DeWitt MOD (Marketers of DeWitt) will be serving from the Barnes Brat Stand. Stop in town for the Clinton Co Fair and enjoy Brats\, Hot Dogs\, Chips and a Drink.
X-ALT-DESC;FMTTYPE=text/html:DeWitt MOD (Marketers of DeWitt) will be serving from the Barnes Brat Stand. Stop in town for the Clinton Co Fair and enjoy Brats\, Hot Dogs\, Chips and a Drink.&nbsp\;
LOCATION:Barnes Brat Stand 622 10th St.\, DeWitt In the Parking Lot
UID:e.1774.1495
SEQUENCE:3
DTSTAMP:20260420T104616Z
URL:https://business.dewittiowa.org/events/details/mod-at-barnes-brat-stand-07-08-2016-1495
END:VEVENT

END:VCALENDAR
