BEGIN:VCALENDAR
VERSION:2.0
PRODID:-//ChamberMaster//Event Calendar 2.0//EN
METHOD:PUBLISH
X-PUBLISHED-TTL:P3D
REFRESH-INTERVAL:P3D
CALSCALE:GREGORIAN
BEGIN:VEVENT
DTSTART;VALUE=DATE:20170506
DTEND;VALUE=DATE:20170507
TRANSP:TRANSPARENT
X-MICROSOFT-CDO-ALLDAYEVENT:TRUE
SUMMARY:MOD Shopping Spree & Social
DESCRIPTION:Shopping Spree & Social For The "Queen Bee" In All Of Us!\n\nSaturday\, May 6th\, DeWitt\, IA\n\n8:00-10:00 a.m. Free Continental Breakfast at the\n\nClinton County Fairgrounds\, 328 E 8th St.\n\n9:00-9:30 a.m. Style Stroll..Come Shop our Antiques\, Boutiques and Uniques!
X-ALT-DESC;FMTTYPE=text/html:Shopping Spree &amp\; Social For The &quot\;Queen Bee&quot\; In All Of Us!<br />\nSaturday\, May 6th\, DeWitt\, IA<br />\n8:00-10:00 a.m. Free Continental Breakfast at the<br />\nClinton County Fairgrounds\, 328 E 8th St.<br />\n9:00-9:30 a.m. Style Stroll..Come Shop our Antiques\, Boutiques and Uniques!&nbsp\;
LOCATION:Starting at Clinton County Fairgrounds 328 E. 8th St DeWitt IA\, then come downtown to shop and get deals and discounts at a variety of our shops!
UID:e.1774.2953
SEQUENCE:3
DTSTAMP:20260419T201620Z
URL:https://business.dewittiowa.org/events/details/mod-shopping-spree-social-2953
END:VEVENT

END:VCALENDAR
