BEGIN:VCALENDAR
VERSION:2.0
PRODID:-//ChamberMaster//Event Calendar 2.0//EN
METHOD:PUBLISH
X-PUBLISHED-TTL:P3D
REFRESH-INTERVAL:P3D
CALSCALE:GREGORIAN
BEGIN:VEVENT
DTSTART:20170826T153000Z
DTEND:20170826T190000Z
X-MICROSOFT-CDO-ALLDAYEVENT:FALSE
SUMMARY:Monarch Migration Day
DESCRIPTION:Join Rhonda Brady the "Butterfly Lady" in her Mari Posa Bus for a mini scavenger hunt\, demonstrations\, seed balls\, Monarch banding (if available) and viewing of the butterfly gardens. Sponsored by the DeWitt Noon Lions\, Clinton County Master Gardeners\, DeWitt Parks & Recreation and the Bickelhaupt Arboretum.
X-ALT-DESC;FMTTYPE=text/html:Join Rhonda Brady the &quot\;Butterfly Lady&quot\; in her Mari Posa Bus for a mini scavenger hunt\, demonstrations\, seed balls\, Monarch banding (if available) and viewing of the butterfly gardens. Sponsored by the DeWitt Noon Lions\, Clinton County Master Gardeners\, DeWitt Parks &amp\; Recreation and the Bickelhaupt Arboretum.
LOCATION:Clinton County Fairgrounds: 10:30 - 12:00 Westbrook Park Lions Shelter: 12:30 - 2:00
UID:e.1774.3205
SEQUENCE:3
DTSTAMP:20260419T150415Z
URL:https://business.dewittiowa.org/events/details/monarch-migration-day-08-26-2017-3205
END:VEVENT

END:VCALENDAR
