BEGIN:VCALENDAR
VERSION:2.0
PRODID:-//ChamberMaster//Event Calendar 2.0//EN
METHOD:PUBLISH
X-PUBLISHED-TTL:P3D
REFRESH-INTERVAL:P3D
CALSCALE:GREGORIAN
BEGIN:VEVENT
DTSTART:20160917T153000Z
DTEND:20160917T190000Z
X-MICROSOFT-CDO-ALLDAYEVENT:FALSE
SUMMARY:Monarch Migration Day
DESCRIPTION:Rhonda Brady the "Butterfly Lady" in her Mari Posa Bus will be in DeWitt. Mini scavenger hunt-demonstrations-milkweed seed balls-view butterfly garden-Monarch banding (if available).
X-ALT-DESC;FMTTYPE=text/html:Rhonda Brady the &quot\;Butterfly Lady&quot\; in her Mari Posa Bus will be in DeWitt. Mini scavenger hunt-demonstrations-milkweed seed balls-view butterfly garden-Monarch banding (if available).
LOCATION:Fairgrounds 10:30 a.m.-12:00 p.m. Westbrook Lions Shelter 12:30 p.m.-2:00 p.m.
UID:e.1774.1534
SEQUENCE:3
DTSTAMP:20260420T073515Z
URL:https://business.dewittiowa.org/events/details/monarch-migration-day-1534
END:VEVENT

END:VCALENDAR
