BEGIN:VCALENDAR
VERSION:2.0
PRODID:-//ChamberMaster//Event Calendar 2.0//EN
METHOD:PUBLISH
X-PUBLISHED-TTL:P3D
REFRESH-INTERVAL:P3D
CALSCALE:GREGORIAN
BEGIN:VEVENT
DTSTART:20160117T000000Z
DTEND:20160117T020000Z
X-MICROSOFT-CDO-ALLDAYEVENT:FALSE
SUMMARY:Moody Men's Collegiate Choir
DESCRIPTION:DeWitt Evangelical Free Church will be hosting the Moody Men's Collegiate Choir for a performance on January 16\, 2016 at 6:00 p.m. Please take this opportunity to not only enjoy an evening of fine music but also to support these young men from the Moody Bible Institute in Chicago. There is no admission fee so please invite family\, friends and coworkers to join us for this night of praise! The choir was founded in 1957 and has served local churches around the world through the ministry of music. They tour twice each year\, presenting concerts of sacred music in various regions of the United States. A concert tour in southern Africa is projected for spring 2016.
X-ALT-DESC;FMTTYPE=text/html:DeWitt Evangelical Free Church will be hosting the Moody Men&#39\;s Collegiate Choir for a performance on January 16\, 2016 at 6:00 p.m. Please take this opportunity to not only enjoy an evening of fine music but also to support these young men from the Moody Bible Institute in Chicago. There is no admission fee so please invite family\, friends and coworkers to join us for this night of praise! The choir was founded in 1957 and has served local churches around the world through the ministry of music. They tour twice each year\, presenting concerts of sacred music in various regions of the United States. A concert tour in southern Africa is projected for spring 2016.
LOCATION:DeWitt Evangelical Free Church 1921 Elmwood Road DeWitt\, Iowa
UID:e.1774.1177
SEQUENCE:3
DTSTAMP:20260420T201611Z
URL:https://business.dewittiowa.org/events/details/moody-men-s-collegiate-choir-01-16-2016-1177
END:VEVENT

END:VCALENDAR
