BEGIN:VCALENDAR
VERSION:2.0
PRODID:-//ChamberMaster//Event Calendar 2.0//EN
METHOD:PUBLISH
X-PUBLISHED-TTL:P3D
REFRESH-INTERVAL:P3D
CALSCALE:GREGORIAN
BEGIN:VEVENT
DTSTART:20170621T140000Z
DTEND:20170621T144500Z
X-MICROSOFT-CDO-ALLDAYEVENT:FALSE
SUMMARY:Mother Goose & Preschool Story Times
DESCRIPTION:Stories\, activities\, crafts\, and snacks for infants thru early elementary
X-ALT-DESC;FMTTYPE=text/html:Stories\, activities\, crafts\, and snacks for infants thru early elementary
LOCATION:Frances Banta Waggoner Community Library 505 10th St. DeWitt\, IA
UID:e.1774.3129
SEQUENCE:3
DTSTAMP:20260419T170156Z
URL:https://business.dewittiowa.org/events/details/mother-goose-preschool-story-times-3129
END:VEVENT

END:VCALENDAR
