BEGIN:VCALENDAR
VERSION:2.0
PRODID:-//ChamberMaster//Event Calendar 2.0//EN
METHOD:PUBLISH
X-PUBLISHED-TTL:P3D
REFRESH-INTERVAL:P3D
CALSCALE:GREGORIAN
BEGIN:VEVENT
DTSTART:20170628T140000Z
DTEND:20170628T144500Z
X-MICROSOFT-CDO-ALLDAYEVENT:FALSE
SUMMARY:Mother Goose & Story Time
DESCRIPTION:Stories\, activities\, crafts\, and snacks
X-ALT-DESC;FMTTYPE=text/html:Stories\, activities\, crafts\, and snacks
LOCATION:Frances Banta Waggoner Community Library 505 10th St. DeWitt\, IA 52742
UID:e.1774.3136
SEQUENCE:3
DTSTAMP:20260419T165659Z
URL:https://business.dewittiowa.org/events/details/mother-goose-story-time-3136
END:VEVENT

END:VCALENDAR
