BEGIN:VCALENDAR
VERSION:2.0
PRODID:-//ChamberMaster//Event Calendar 2.0//EN
METHOD:PUBLISH
X-PUBLISHED-TTL:P3D
REFRESH-INTERVAL:P3D
CALSCALE:GREGORIAN
BEGIN:VEVENT
DTSTART:20141110T233000Z
DTEND:20141111T030000Z
X-MICROSOFT-CDO-ALLDAYEVENT:FALSE
SUMMARY:Mother Son Date Night
DESCRIPTION:DeWitt Parks & Recreation presents... Mother Son Date Night Dinner & a Movie!\n\nBuffet Dinner by Hall of Fame Pizza & Wings at the DeWitt Community Center:  Salad\, Pizza\, Wings & Dessert Pizza\n\nFollowed by a family movie at the DeWitt Opera House\n\n1 small pop & popcorn provided for each person\n\nDinner at 5:30 PM Movie starts at 6:45 PM\n\nCost is $25 per couple (must be at least 5 years old) (minimum of 40 couples & maximum of 200 individuals) $5 for each additional son\n\nReturn form by November 3\, 2014( 8pm) to:\n\nDeWitt Parks & Recreation\n\n900 14th Street DeWitt\, IA 52742\n\nQuestions? Call 659-5127 Website: parks.cityofdewittiowa.org
X-ALT-DESC;FMTTYPE=text/html:DeWitt Parks &amp\; Recreation presents... Mother Son Date Night Dinner &amp\; a Movie!<br />\nBuffet Dinner by Hall of Fame Pizza &amp\; Wings at the DeWitt Community Center: &nbsp\;Salad\, Pizza\, Wings &amp\; Dessert Pizza<br />\nFollowed by a family movie at the DeWitt Opera House<br />\n1 small pop &amp\; popcorn provided for each person<br />\nDinner at 5:30 PM Movie starts at 6:45 PM<br />\nCost is $25 per couple (must be at least 5 years old) (minimum of 40 couples &amp\; maximum of 200 individuals) $5 for each additional son<br />\nReturn form by November 3\, 2014(&nbsp\;8pm) to:<br />\nDeWitt Parks &amp\; Recreation<br />\n900 14th Street DeWitt\, IA 52742<br />\nQuestions? Call 659-5127 Website: parks.cityofdewittiowa.org
LOCATION:DeWitt Community Center 512 10th Street DeWitt OperaHouse 712 6th Avenue
UID:e.1774.224
SEQUENCE:3
DTSTAMP:20260421T203833Z
URL:https://business.dewittiowa.org/events/details/mother-son-date-night-11-10-2014-224
END:VEVENT

END:VCALENDAR
