BEGIN:VCALENDAR
VERSION:2.0
PRODID:-//ChamberMaster//Event Calendar 2.0//EN
METHOD:PUBLISH
X-PUBLISHED-TTL:P3D
REFRESH-INTERVAL:P3D
CALSCALE:GREGORIAN
BEGIN:VEVENT
DTSTART:20170707T150000Z
DTEND:20170707T170000Z
X-MICROSOFT-CDO-ALLDAYEVENT:FALSE
SUMMARY:Movie at the Library
DESCRIPTION:A movie AND snacks!
X-ALT-DESC;FMTTYPE=text/html:A movie AND snacks!
LOCATION:Frances Banta Waggoner Community Library Meeting Room 505 10th St. DeWitt\, IA
UID:e.1774.3165
SEQUENCE:3
DTSTAMP:20260419T152646Z
URL:https://business.dewittiowa.org/events/details/movie-at-the-library-3165
END:VEVENT

END:VCALENDAR
