BEGIN:VCALENDAR
VERSION:2.0
PRODID:-//ChamberMaster//Event Calendar 2.0//EN
METHOD:PUBLISH
X-PUBLISHED-TTL:P3D
REFRESH-INTERVAL:P3D
CALSCALE:GREGORIAN
BEGIN:VEVENT
DTSTART:20140718T150000Z
DTEND:20140718T163500Z
X-MICROSOFT-CDO-ALLDAYEVENT:FALSE
SUMMARY:Movie Day "Race to Witch Mountain"
DESCRIPTION:Movie day at the library. Popcorn
X-ALT-DESC;FMTTYPE=text/html:Movie day at the library. Popcorn
LOCATION:Library Meeting Room 505 10th St. DeWitt\, IA
UID:e.1774.106
SEQUENCE:3
DTSTAMP:20260422T011157Z
URL:https://business.dewittiowa.org/events/details/movie-day-race-to-witch-mountain-07-18-2014-106
END:VEVENT

END:VCALENDAR
