BEGIN:VCALENDAR
VERSION:2.0
PRODID:-//ChamberMaster//Event Calendar 2.0//EN
METHOD:PUBLISH
X-PUBLISHED-TTL:P3D
REFRESH-INTERVAL:P3D
CALSCALE:GREGORIAN
BEGIN:VEVENT
DTSTART:20170609T150000Z
DTEND:20170609T170000Z
X-MICROSOFT-CDO-ALLDAYEVENT:FALSE
SUMMARY:Movie of the Week
DESCRIPTION:A movie for kids of all ages with a snack!
X-ALT-DESC;FMTTYPE=text/html:A movie for kids of all ages with a snack!
LOCATION:Frances Banta Waggoner Community Library Meeting Room 505 10th St. DeWitt\, IA
UID:e.1774.3103
SEQUENCE:3
DTSTAMP:20260419T170053Z
URL:https://business.dewittiowa.org/events/details/movie-of-the-week-3103
END:VEVENT

END:VCALENDAR
