BEGIN:VCALENDAR
VERSION:2.0
PRODID:-//ChamberMaster//Event Calendar 2.0//EN
METHOD:PUBLISH
X-PUBLISHED-TTL:P3D
REFRESH-INTERVAL:P3D
CALSCALE:GREGORIAN
BEGIN:VEVENT
DTSTART:20140725T150000Z
DTEND:20140725T164000Z
X-MICROSOFT-CDO-ALLDAYEVENT:FALSE
SUMMARY:Movie "Wall-e"
DESCRIPTION:Movie day at the Library.
X-ALT-DESC;FMTTYPE=text/html:Movie day at the Library.
LOCATION:Library Meeting Room 505 10th St. DeWitt\, IA
UID:e.1774.110
SEQUENCE:3
DTSTAMP:20260422T010733Z
URL:https://business.dewittiowa.org/events/details/movie-wall-e-07-25-2014-110
END:VEVENT

END:VCALENDAR
