BEGIN:VCALENDAR
VERSION:2.0
PRODID:-//ChamberMaster//Event Calendar 2.0//EN
METHOD:PUBLISH
X-PUBLISHED-TTL:P3D
REFRESH-INTERVAL:P3D
CALSCALE:GREGORIAN
BEGIN:VEVENT
DTSTART:20151004T220000Z
DTEND:20151005T010000Z
X-MICROSOFT-CDO-ALLDAYEVENT:FALSE
SUMMARY:Murder Mystery Dinner Theatre at TYCOGA Winery
DESCRIPTION:Upstage Productions is coming to TYCOGA! The mystery that will be performed will be "Murder on the Disoriented Express."  As the audience arrives they are assigned new identities for the evening-some of them becoming suspects in the crime. The show is very fast-paced and funny\, half scripted and half improvised. As the mystery unfolds\, a murder occurs\, and the audience must figure out 'who dunnit'. You will have a tremendous time hamming it up!\n\n\n\nReservations MUST be made at TYCOGA Winery. Dinner is included. Pre-pay by CASH/CHECK ONLY. NONREFUNDABLE\n\n\n\nALL DRINKS MUST BE PURCHASED AT TYCOGA.
X-ALT-DESC;FMTTYPE=text/html:Upstage Productions is coming to TYCOGA! The mystery that will be performed will be &quot\;Murder on the Disoriented Express.&quot\;&nbsp\; As the audience arrives they are assigned new identities for the evening-some of them becoming suspects in the crime. The show is very fast-paced and funny\, half scripted and half improvised. As the mystery unfolds\, a murder occurs\, and the audience must figure out &#39\;who dunnit&#39\;.&nbsp\;You will have a tremendous time hamming it up!<br />\n<br />\nReservations MUST be made at TYCOGA Winery. Dinner is included. Pre-pay by CASH/CHECK ONLY. NONREFUNDABLE<br />\n<br />\nALL DRINKS MUST BE PURCHASED AT TYCOGA.
LOCATION:TYCOGA Winery 2585 195th Street Dewitt\, IA 52742
UID:e.1774.1019
SEQUENCE:3
DTSTAMP:20260421T030445Z
URL:https://business.dewittiowa.org/events/details/murder-mystery-dinner-theatre-at-tycoga-winery-10-04-2015-1019
END:VEVENT

END:VCALENDAR
