BEGIN:VCALENDAR
VERSION:2.0
PRODID:-//ChamberMaster//Event Calendar 2.0//EN
METHOD:PUBLISH
X-PUBLISHED-TTL:P3D
REFRESH-INTERVAL:P3D
CALSCALE:GREGORIAN
BEGIN:VEVENT
DTSTART:20160214T230000Z
DTEND:20160215T020000Z
X-MICROSOFT-CDO-ALLDAYEVENT:FALSE
SUMMARY:MURDER MYSTERY INTERACTIVE DINNER THEATER
DESCRIPTION:THEME: YOU'VE BEEN MURDERED\, CHARLIE BROWN\n\nREGISTER AT TYCOGA WINERY. $45.00/PER PERSON. CASH OR CHECK ONLY! INCLUDES DINNER & SHOW. ALL BEVERAGES TO BE PURCHASED AT TYCOGA. NONREFUNDABLE. SIGN UP BY FEBRUARY 10\, 2016. CALL CAREY WITH QUESTIONS ONLY.
X-ALT-DESC;FMTTYPE=text/html:THEME: YOU&#39\;VE BEEN MURDERED\, CHARLIE BROWN<br />\nREGISTER AT TYCOGA WINERY. $45.00/PER PERSON. CASH OR CHECK ONLY! INCLUDES DINNER &amp\; SHOW. ALL BEVERAGES TO BE PURCHASED AT TYCOGA. NONREFUNDABLE. SIGN UP BY FEBRUARY 10\, 2016. CALL CAREY WITH QUESTIONS ONLY.
LOCATION:TYCOGA WINERY 2585 195th Street DeWitt\, IA 52742
UID:e.1774.1175
SEQUENCE:3
DTSTAMP:20260420T183252Z
URL:https://business.dewittiowa.org/events/details/murder-mystery-interactive-dinner-theater-02-14-2016-1175
END:VEVENT

END:VCALENDAR
