BEGIN:VCALENDAR
VERSION:2.0
PRODID:-//ChamberMaster//Event Calendar 2.0//EN
METHOD:PUBLISH
X-PUBLISHED-TTL:P3D
REFRESH-INTERVAL:P3D
CALSCALE:GREGORIAN
BEGIN:VEVENT
DTSTART:20151220T230000Z
DTEND:20151221T020000Z
X-MICROSOFT-CDO-ALLDAYEVENT:FALSE
SUMMARY:Murder on 34th Street @ TYCOGA WInery
DESCRIPTION:Interactive Dinner Theater by Upstage Productions\n\nMust prepay & sign up at TYCOGA by cash or check ONLY.\n\nDinner included. All drinks to be purchased at TYCOGA.\n\nNONREFUNDABLE.
X-ALT-DESC;FMTTYPE=text/html:Interactive Dinner Theater by Upstage Productions<br />\nMust prepay &amp\; sign up at TYCOGA by cash or check ONLY.<br />\nDinner included. All drinks to be purchased at TYCOGA.<br />\nNONREFUNDABLE.<br />\n&nbsp\;
LOCATION:TYCOGA Winery 2585 195th St. DeWitt\, IA 52742
UID:e.1774.1150
SEQUENCE:3
DTSTAMP:20260420T233339Z
URL:https://business.dewittiowa.org/events/details/murder-on-34th-street-tycoga-winery-12-20-2015-1150
END:VEVENT

END:VCALENDAR
