BEGIN:VCALENDAR
VERSION:2.0
PRODID:-//ChamberMaster//Event Calendar 2.0//EN
METHOD:PUBLISH
X-PUBLISHED-TTL:P3D
REFRESH-INTERVAL:P3D
CALSCALE:GREGORIAN
BEGIN:VEVENT
DTSTART:20170513T140000Z
DTEND:20170513T190000Z
X-MICROSOFT-CDO-ALLDAYEVENT:FALSE
SUMMARY:National Association of Letter Carriers 25th Anniversary Stamp Out Hunger Food Drive
DESCRIPTION:Spread the Word. Fill a bag. Help Feed Families.\n\nPlace healthy nonperishable food near your mailbox. Donations Stay in your Community.
X-ALT-DESC;FMTTYPE=text/html:Spread the Word. Fill a bag. Help Feed Families.<br />\nPlace healthy nonperishable food near your mailbox. Donations Stay in your Community.
LOCATION:Please place all donations in bags near your mailbox for your postal carriers to pick up.
UID:e.1774.3006
SEQUENCE:3
DTSTAMP:20260419T184623Z
URL:https://business.dewittiowa.org/events/details/national-association-of-letter-carriers-25th-anniversary-stamp-out-hunger-food-drive-3006
END:VEVENT

END:VCALENDAR
