BEGIN:VCALENDAR
VERSION:2.0
PRODID:-//ChamberMaster//Event Calendar 2.0//EN
METHOD:PUBLISH
X-PUBLISHED-TTL:P3D
REFRESH-INTERVAL:P3D
CALSCALE:GREGORIAN
BEGIN:VEVENT
DTSTART:20170523T233000Z
DTEND:20170524T003000Z
X-MICROSOFT-CDO-ALLDAYEVENT:FALSE
SUMMARY:National Homeschool Month - Homeschooling Q&A Opportunity
DESCRIPTION:It's National Homeschool Month! If you've ever wondered how it's done\, why people do it\, what a day of homeschooling might look like\, now is your chance to come and ask anything about homeschooling! Or\, perhaps you're now wondering: "Could I homeschool? How would I start? Where do I start?" During this Homeschool Q&A session we'll not only expose you to the world of homeschooling\, but also attempt to answer your toughest questions and provide resources for any one interested in the possibility of starting his/her own homeschooling journey.
X-ALT-DESC;FMTTYPE=text/html:It&#39\;s National Homeschool Month! If you&#39\;ve ever wondered how it&#39\;s done\, why people do it\, what a day of homeschooling might look like\, now is your chance to come and ask anything about homeschooling! Or\, perhaps you&#39\;re now wondering: &quot\;Could I homeschool? How would I start? Where do I start?&quot\; During this Homeschool Q&amp\;A session we&#39\;ll not only expose you to the world of homeschooling\, but also attempt to answer your toughest questions and provide resources for any one interested in the possibility of starting his/her own homeschooling journey.
LOCATION:Frances Banta Waggoner Library (front mtg room) 505 10th St. DeWitt\, IA
UID:e.1774.3003
SEQUENCE:3
DTSTAMP:20260419T202521Z
URL:https://business.dewittiowa.org/events/details/national-homeschool-month-homeschooling-q-a-opportunity-3003
END:VEVENT

END:VCALENDAR
