BEGIN:VCALENDAR
VERSION:2.0
PRODID:-//ChamberMaster//Event Calendar 2.0//EN
METHOD:PUBLISH
X-PUBLISHED-TTL:P3D
REFRESH-INTERVAL:P3D
CALSCALE:GREGORIAN
BEGIN:VEVENT
DTSTART:20160802T230000Z
DTEND:20160803T010000Z
X-MICROSOFT-CDO-ALLDAYEVENT:FALSE
SUMMARY:National Night Out
DESCRIPTION:The DeWitt Police Department participates each year in National Night Out\, a time for our community to interact with police in a positive setting\, to show criminals that the community and police work together to make our community a better place. A night of Food-Games-Prizes and much more! August 02\, 2016 6pm - 8pm
X-ALT-DESC;FMTTYPE=text/html:The DeWitt Police Department participates each year in National Night Out\, a time for our community to interact with police in a positive setting\, to show criminals that the community and police work together to make our community a better place. A night of Food-Games-Prizes and much more! August 02\, 2016 6pm - 8pm
LOCATION:Lincoln Park DeWitt
UID:e.1774.1517
SEQUENCE:3
DTSTAMP:20260420T092334Z
URL:https://business.dewittiowa.org/events/details/national-night-out-08-02-2016-1517
END:VEVENT

END:VCALENDAR
