BEGIN:VCALENDAR
VERSION:2.0
PRODID:-//ChamberMaster//Event Calendar 2.0//EN
METHOD:PUBLISH
X-PUBLISHED-TTL:P3D
REFRESH-INTERVAL:P3D
CALSCALE:GREGORIAN
BEGIN:VEVENT
DTSTART:20150804T230000Z
DTEND:20150805T010000Z
X-MICROSOFT-CDO-ALLDAYEVENT:FALSE
SUMMARY:National Night Out
DESCRIPTION:National Night Out is a nation-wide event in which the local law enforcement and citizens come together to form a partnership against crime and drug use in their community. The event is hosted by the DeWitt Police Foundation and is free to the citizens of DeWitt. Educational material\, entertainment\, food and prizes are provided.
X-ALT-DESC;FMTTYPE=text/html:National Night Out is a nation-wide event in which the local law enforcement and citizens come together to form a partnership against crime and drug use in their community. The event is hosted by the DeWitt Police Foundation and is free to the citizens of DeWitt. Educational material\, entertainment\, food and prizes are provided.
LOCATION:Lincoln Park\, DeWitt
UID:e.1774.901
SEQUENCE:3
DTSTAMP:20260421T043828Z
URL:https://business.dewittiowa.org/events/details/national-night-out-08-04-2015-901
END:VEVENT

END:VCALENDAR
