BEGIN:VCALENDAR
VERSION:2.0
PRODID:-//ChamberMaster//Event Calendar 2.0//EN
METHOD:PUBLISH
X-PUBLISHED-TTL:P3D
REFRESH-INTERVAL:P3D
CALSCALE:GREGORIAN
BEGIN:VEVENT
DTSTART:20170801T230000Z
DTEND:20170802T010000Z
X-MICROSOFT-CDO-ALLDAYEVENT:FALSE
SUMMARY:National Night Out
DESCRIPTION:Annual event to build a partnership between the community and law enforcement to fight crime and drug use in DeWitt. Free event with educational information regarding resources that citizens can use to deter criminal activity.
X-ALT-DESC;FMTTYPE=text/html:Annual event to build a partnership between the community and law enforcement to fight crime and drug use in DeWitt. Free event with educational information regarding resources that citizens can use to deter criminal activity.
LOCATION:Lincoln Park
UID:e.1774.3073
SEQUENCE:3
DTSTAMP:20260419T150421Z
URL:https://business.dewittiowa.org/events/details/national-night-out-3073
END:VEVENT

END:VCALENDAR
