BEGIN:VCALENDAR
VERSION:2.0
PRODID:-//ChamberMaster//Event Calendar 2.0//EN
METHOD:PUBLISH
X-PUBLISHED-TTL:P3D
REFRESH-INTERVAL:P3D
CALSCALE:GREGORIAN
BEGIN:VEVENT
DTSTART;VALUE=DATE:20160526
DTEND;VALUE=DATE:20160527
TRANSP:TRANSPARENT
X-MICROSOFT-CDO-ALLDAYEVENT:TRUE
SUMMARY:National Senior Health and Fitness Day
DESCRIPTION:In honor of National Senior Health and Fitness Day\, Hill Chiropractic will be providing a free book (Exercise and Physical Activity) and DVD (Everyday Exercises) for all those who are interested. Exercise and physical activity is essential for health\, this book and DVD set has great tips to help you fit exercise and physical activity safely into your daily life\, especially as you age. Simply stop by to pick them up\, it's that easy. These are free of charge and are provided through the National Institute on Aging Go4Life campaign.
X-ALT-DESC;FMTTYPE=text/html:In honor of National Senior Health and Fitness Day\, Hill Chiropractic will be providing a free book (Exercise and Physical Activity) and DVD (Everyday Exercises) for all those who are interested. Exercise and physical activity is essential for health\, this book and DVD set has great tips to help you fit exercise and physical activity safely into your daily life\, especially as you age. Simply stop by to pick them up\, it&#39\;s that easy. These are free of charge and are provided through the National Institute on Aging Go4Life campaign.<br />\n<br />\n&nbsp\;
LOCATION:Hill Chiropractic Office 602 12th St. DeWitt\, IA 52742
UID:e.1774.1353
SEQUENCE:3
DTSTAMP:20260420T153241Z
URL:https://business.dewittiowa.org/events/details/national-senior-health-and-fitness-day-05-26-2016-1353
END:VEVENT

END:VCALENDAR
