BEGIN:VCALENDAR
VERSION:2.0
PRODID:-//ChamberMaster//Event Calendar 2.0//EN
METHOD:PUBLISH
X-PUBLISHED-TTL:P3D
REFRESH-INTERVAL:P3D
CALSCALE:GREGORIAN
BEGIN:VEVENT
DTSTART;VALUE=DATE:20170601
DTEND;VALUE=DATE:20170602
TRANSP:TRANSPARENT
X-MICROSOFT-CDO-ALLDAYEVENT:TRUE
SUMMARY:National Senior Health and Fitness Day
DESCRIPTION:Help us keep older Americans healthy and fit. Stop by our office to receive your free Exercise and Physical Activity book\, Everyday Exercise DVD\, and Workout to Go booklet all from the National Institute on Aging's Go4Life campaign\, compliments of Hill Chiropractic Office.
X-ALT-DESC;FMTTYPE=text/html:Help us keep older Americans healthy and fit. Stop by our office to receive your free Exercise and Physical Activity book\, Everyday Exercise DVD\, and Workout to Go booklet all from the National Institute on Aging&#39\;s Go4Life campaign\, compliments of Hill Chiropractic Office.
LOCATION:Hill Chiropractic Office 602 12th St DeWitt\, IA 52742
UID:e.1774.3019
SEQUENCE:3
DTSTAMP:20260419T184601Z
URL:https://business.dewittiowa.org/events/details/national-senior-health-and-fitness-day-3019
END:VEVENT

END:VCALENDAR
