BEGIN:VCALENDAR
VERSION:2.0
PRODID:-//ChamberMaster//Event Calendar 2.0//EN
METHOD:PUBLISH
X-PUBLISHED-TTL:P3D
REFRESH-INTERVAL:P3D
CALSCALE:GREGORIAN
BEGIN:VEVENT
DTSTART;VALUE=DATE:20141231
DTEND;VALUE=DATE:20150101
TRANSP:TRANSPARENT
X-MICROSOFT-CDO-ALLDAYEVENT:TRUE
SUMMARY:New Year's Eve Dinner
DESCRIPTION:Open to the Public\n\nSpringbrook Country Club\n\n\n\nWednesday\, December 31\, 2014 - New Year's Eve Dinner\n\n\n\nAppetizer:\n\nScallop St. Jacque\n\n\n\nSalad:\n\nWinter Greens-Mandarin Oranges-Candied Walnuts-Goat Cheese-Pickled Radish-Honey\n\nChampagne Vinaigrette\n\n\n\n Entr e Choice:\n\n1. Medallion of Beef Tenderloin-Truffle Demi Glace- Braised Mushrooms 32.00\n\n2. Seafood stuffed Orange Roughy-Newberg Sauce 28.00\n\n3. Iowa Pork Chop-Bacon Onion Jam-Crispy Leeks 28.00\n\nAll entrees served with Yukon gold and sweet potato hash and medley of fresh vegetables\n\n\n\nDessert: Chef's Trio of Desserts\n\n\n\nTwo dinner seatings\, 5:00pm or 7:30pm\n\nReservations are required and will be accepted until 29December14.\n\nPlease inform us of your Entr e Choice when you make your Reservation.\n\nPhone: 563-659-3187
X-ALT-DESC;FMTTYPE=text/html:<div style="text-align: center\;"><br />\n<span style="font-family:arial\;"><span style="font-size:14px\;"><strong><span style="font-size:16px\;">Open to the Public<br />\nSpringbrook Country Club</span><br />\n<br />\n<span style="font-size:16px\;">Wednesday\, December 31\, 2014 -&nbsp\;New Year&#39\;s Eve Dinner</span></strong></span><br />\n<br />\nAppetizer:<br />\nScallop St. Jacque<br />\n<br />\nSalad:<br />\nWinter Greens-Mandarin Oranges-Candied Walnuts-Goat Cheese-Pickled Radish-Honey<br />\nChampagne Vinaigrette<br />\n<br />\n&#8203\;Entr&eacute\;e Choice:<br />\n1. Medallion of Beef Tenderloin-Truffle Demi Glace- Braised Mushrooms 32.00<br />\n2. Seafood stuffed Orange Roughy-Newberg Sauce 28.00<br />\n3. Iowa Pork Chop-Bacon Onion Jam-Crispy Leeks 28.00<br />\nAll entrees served with Yukon gold and sweet potato hash and medley of fresh vegetables<br />\n<br />\nDessert: Chef&#39\;s Trio of Desserts<br />\n<br />\nTwo dinner seatings\, 5:00pm or 7:30pm<br />\nReservations are required and will be accepted until 29December14.<br />\nPlease inform us of your Entr&eacute\;e Choice when you make your Reservation.</span></div>\n\n<div style="text-align: center\;"><span style="font-family:arial\;">Phone: 563-659-3187</span></div>\n
LOCATION:Springbrook Country Club 2122 17th Avenue DeWitt\, IA
UID:e.1774.244
SEQUENCE:3
DTSTAMP:20260421T171908Z
URL:https://business.dewittiowa.org/events/details/new-year-s-eve-dinner-12-31-2014-244
END:VEVENT

END:VCALENDAR
