BEGIN:VCALENDAR
VERSION:2.0
PRODID:-//ChamberMaster//Event Calendar 2.0//EN
METHOD:PUBLISH
X-PUBLISHED-TTL:P3D
REFRESH-INTERVAL:P3D
CALSCALE:GREGORIAN
BEGIN:VEVENT
DTSTART:20150506T124500Z
DTEND:20150506T174500Z
X-MICROSOFT-CDO-ALLDAYEVENT:FALSE
SUMMARY:NHS Blood Drive
DESCRIPTION:Blood Drive with Mississippi Valley Regional Blood Center Sponsored by National Honor Society
X-ALT-DESC;FMTTYPE=text/html:Blood Drive with Mississippi Valley Regional Blood Center Sponsored by National Honor Society
LOCATION:Auxiliary Gym at Central Community High School
UID:e.1774.343
SEQUENCE:3
DTSTAMP:20260421T110118Z
URL:https://business.dewittiowa.org/events/details/nhs-blood-drive-05-06-2015-343
END:VEVENT

END:VCALENDAR
