BEGIN:VCALENDAR
VERSION:2.0
PRODID:-//ChamberMaster//Event Calendar 2.0//EN
METHOD:PUBLISH
X-PUBLISHED-TTL:P3D
REFRESH-INTERVAL:P3D
CALSCALE:GREGORIAN
BEGIN:VEVENT
DTSTART:20150704T143000Z
DTEND:20150704T180000Z
X-MICROSOFT-CDO-ALLDAYEVENT:FALSE
SUMMARY:Nite Lions 4th of July Cookout
DESCRIPTION:Enjoy delicious pork chop sandwiches and hot dogs with the Nite Lions in Lincoln Park!
X-ALT-DESC;FMTTYPE=text/html:Enjoy delicious pork chop sandwiches and hot dogs with the Nite Lions in Lincoln Park!
LOCATION:Lincoln Park
UID:e.1774.908
SEQUENCE:3
DTSTAMP:20260421T061851Z
URL:https://business.dewittiowa.org/events/details/nite-lions-4th-of-july-cookout-07-04-2015-908
END:VEVENT

END:VCALENDAR
