BEGIN:VCALENDAR
VERSION:2.0
PRODID:-//ChamberMaster//Event Calendar 2.0//EN
METHOD:PUBLISH
X-PUBLISHED-TTL:P3D
REFRESH-INTERVAL:P3D
CALSCALE:GREGORIAN
BEGIN:VEVENT
DTSTART:20161009T203000Z
DTEND:20161010T000000Z
X-MICROSOFT-CDO-ALLDAYEVENT:FALSE
SUMMARY:OctoberFeast
DESCRIPTION:Self Serve Buffet by Matthiesen's Catering:  Salad Bar\, Sliced Roast Beef\, Chicken Alfredo\, Mashed Potatoes & Gravy\, Corn\, Green Bean Casserole\, Bread Basket\, Desserts by Grace Ladies.  Carry out available.  Entertainment by jazz pianist Dave Galster.
X-ALT-DESC;FMTTYPE=text/html:Self Serve Buffet by Matthiesen&#39\;s Catering: &nbsp\;Salad Bar\, Sliced Roast Beef\, Chicken Alfredo\, Mashed Potatoes &amp\; Gravy\, Corn\, Green Bean Casserole\, Bread Basket\, Desserts by Grace Ladies. &nbsp\;Carry out available. &nbsp\;Entertainment by jazz pianist Dave Galster.
LOCATION:Grace Lutheran Church 415 10th St DeWitt\, IA
UID:e.1774.1552
SEQUENCE:3
DTSTAMP:20260420T073543Z
URL:https://business.dewittiowa.org/events/details/octoberfeast-1552
END:VEVENT

END:VCALENDAR
