BEGIN:VCALENDAR
VERSION:2.0
PRODID:-//ChamberMaster//Event Calendar 2.0//EN
METHOD:PUBLISH
X-PUBLISHED-TTL:P3D
REFRESH-INTERVAL:P3D
CALSCALE:GREGORIAN
BEGIN:VEVENT
DTSTART:20150502T223000Z
DTEND:20150503T180000Z
X-MICROSOFT-CDO-ALLDAYEVENT:FALSE
SUMMARY:Odyssey of the Mind Bake Sale
DESCRIPTION:Two teams of student participants in the Odyssey of the Mind program have qualified to represent the State of Iowa at the World Finals of this creative problem-solving competition being held at Michigan State University from May 20-23. They will be holding a bake sale at St. Joseph's church following the Saturday evening and Sunday morning masses. Proceeds will help to fund student registrations.
X-ALT-DESC;FMTTYPE=text/html:Two teams of student participants in the Odyssey of the Mind program have qualified to represent the State of Iowa at the World Finals of this creative problem-solving competition being held at Michigan State University from May 20-23. They will be holding a bake sale at St. Joseph&#39\;s church following the Saturday evening and Sunday morning masses. Proceeds will help to fund student registrations.
LOCATION:St. Joseph's Church
UID:e.1774.363
SEQUENCE:3
DTSTAMP:20260421T111123Z
URL:https://business.dewittiowa.org/events/details/odyssey-of-the-mind-bake-sale-05-02-2015-363
END:VEVENT

END:VCALENDAR
