BEGIN:VCALENDAR
VERSION:2.0
PRODID:-//ChamberMaster//Event Calendar 2.0//EN
METHOD:PUBLISH
X-PUBLISHED-TTL:P3D
REFRESH-INTERVAL:P3D
CALSCALE:GREGORIAN
BEGIN:VEVENT
DTSTART:20150427T223000Z
DTEND:20150428T003000Z
X-MICROSOFT-CDO-ALLDAYEVENT:FALSE
SUMMARY:Odyssey of the Mind Fundraiser
DESCRIPTION:Two teams of Central students from the middle and high schools will represent the State of Iowa at the World Finals of the Odyssey of the Mind program at Michigan State University on May 20-23. Every buffet sold at Hall of Fame Pizza will contribute $1.50 to the teams' registration costs.
X-ALT-DESC;FMTTYPE=text/html:Two teams of Central students from the middle and high schools will represent the State of Iowa at the World Finals of the Odyssey of the Mind program at Michigan State University on May 20-23. Every buffet sold at Hall of Fame Pizza will contribute $1.50 to the teams&#39\; registration costs.
LOCATION:Hall of Fame Pizza and Wings
UID:e.1774.362
SEQUENCE:3
DTSTAMP:20260421T124227Z
URL:https://business.dewittiowa.org/events/details/odyssey-of-the-mind-fundraiser-04-27-2015-362
END:VEVENT

END:VCALENDAR
