BEGIN:VCALENDAR
VERSION:2.0
PRODID:-//ChamberMaster//Event Calendar 2.0//EN
METHOD:PUBLISH
X-PUBLISHED-TTL:P3D
REFRESH-INTERVAL:P3D
CALSCALE:GREGORIAN
BEGIN:VEVENT
DTSTART:20170409T220000Z
DTEND:20170410T010000Z
X-MICROSOFT-CDO-ALLDAYEVENT:FALSE
SUMMARY:Offing Ferris Bueller Interactive Murder Mystery
DESCRIPTION:Bueller gets away with Murder! So does his killer!\n\nFigure out who could have done it. Was it the evil principal?\n\nHis jealous sister? Abe Froman\, sausage king of Chicago?\n\nJoin us for an interactive mystery and find out!\n\n\n\nTons of fun\, delicious food\, lots of laughs!  You don't want to miss it!!
X-ALT-DESC;FMTTYPE=text/html:Bueller gets away with Murder! So does his killer!<br />\nFigure out who could have done it. Was it the evil principal?<br />\nHis jealous sister? Abe Froman\, sausage king of Chicago?<br />\nJoin us for an interactive mystery and find out!<br />\n<br />\nTons of fun\, delicious food\, lots of laughs!&nbsp\; You don&#39\;t want to miss it!!
LOCATION:TYCOGA Vineyard & Winery 2585 195th Street DeWitt\, IA 52742 563-659-1443
UID:e.1774.1905
SEQUENCE:3
DTSTAMP:20260419T201245Z
URL:https://business.dewittiowa.org/events/details/offing-ferris-bueller-interactive-murder-mystery-1905
END:VEVENT

END:VCALENDAR
