BEGIN:VCALENDAR
VERSION:2.0
PRODID:-//ChamberMaster//Event Calendar 2.0//EN
METHOD:PUBLISH
X-PUBLISHED-TTL:P3D
REFRESH-INTERVAL:P3D
CALSCALE:GREGORIAN
BEGIN:VEVENT
DTSTART:20141025T230000Z
DTEND:20141026T020000Z
X-MICROSOFT-CDO-ALLDAYEVENT:FALSE
SUMMARY:Oktoberfest
DESCRIPTION:All Welcome to indulge in a "Bavarian Heaven Buffet\," including salad\, sausages\, Sauerbraten\, Wiener schnitzel\, Spate\, German potato salad\, asparagus\, cabbage with carrots\, Pretzel Bread\, Apple Strudel\, and German Chocolate Cake. Extensive paring with Schnapps and Bier!
X-ALT-DESC;FMTTYPE=text/html:All Welcome to indulge in a &quot\;Bavarian Heaven Buffet\,&quot\; including salad\, sausages\, Sauerbraten\, Wiener schnitzel\, Spate\, German potato salad\, asparagus\, cabbage with carrots\, Pretzel Bread\, Apple Strudel\, and German Chocolate Cake. Extensive paring with Schnapps and Bier!
LOCATION:Springbrook Country Club 2122 17th Ave DeWitt\, IA 52742
UID:e.1774.193
SEQUENCE:3
DTSTAMP:20260421T203632Z
URL:https://business.dewittiowa.org/events/details/oktoberfest-10-25-2014-193
END:VEVENT

END:VCALENDAR
