BEGIN:VCALENDAR
VERSION:2.0
PRODID:-//ChamberMaster//Event Calendar 2.0//EN
METHOD:PUBLISH
X-PUBLISHED-TTL:P3D
REFRESH-INTERVAL:P3D
CALSCALE:GREGORIAN
BEGIN:VEVENT
DTSTART:20170424T230000Z
DTEND:20170425T020000Z
X-MICROSOFT-CDO-ALLDAYEVENT:FALSE
SUMMARY:One-Night Movie Event
DESCRIPTION:Thrivent Financial is sponsoring a free movie night at the DeWitt Operahouse Theatre. "Martin Luther - The Idea That Changed the World" commemorates the 500th anniversary of the Reformation which is being celebrated in 2017. Cost is free - first come - first seated. Please bring a non perishable food item(s) or cash donation for one of 4 local food pantries - DeWitt\, Wheatland\, Elvira\, or Lost Nation. A free drink and popcorn will be provided.
X-ALT-DESC;FMTTYPE=text/html:Thrivent Financial is sponsoring a free movie night at the DeWitt Operahouse Theatre. &quot\;Martin Luther - The Idea That Changed the World&quot\; commemorates the 500th anniversary of the Reformation which is being celebrated in 2017. Cost is free - first come - first seated. Please bring a non perishable food item(s) or cash donation for one of 4 local food pantries - DeWitt\, Wheatland\, Elvira\, or Lost Nation. A free drink and popcorn will be provided.
LOCATION:DeWitt Operahouse Theatre 716 6th Ave DeWitt\, IA
UID:e.1774.1938
SEQUENCE:3
DTSTAMP:20260419T220209Z
URL:https://business.dewittiowa.org/events/details/one-night-movie-event-1938
END:VEVENT

END:VCALENDAR
