BEGIN:VCALENDAR
VERSION:2.0
PRODID:-//ChamberMaster//Event Calendar 2.0//EN
METHOD:PUBLISH
X-PUBLISHED-TTL:P3D
REFRESH-INTERVAL:P3D
CALSCALE:GREGORIAN
BEGIN:VEVENT
DTSTART:20160423T143000Z
DTEND:20160423T170000Z
X-MICROSOFT-CDO-ALLDAYEVENT:FALSE
SUMMARY:"One of Nature's Most Powerful Gifts - All About Essential Oils"
DESCRIPTION:LEARN about One of Nature's Most Powerful Gifts!\n\n"All About Essential Oils" by Anne Haring\n\nSaturday\, April 23rd * 9:30-Noon\n\nNetwork w/ Others as you enjoy a\n\nSouthwest/Mexican Inspired Luncheon infused w/ Essential Oils!\n\nCall 563.659.8897 to Pre-Register by Friday\, April 15 * $19.00 (Tax & Gratuity Included)\n\nFor More Information go to:  www.crossroadsofdewitt.com
X-ALT-DESC;FMTTYPE=text/html:<div style="text-align: center\;"><span style="font-family:verdana"><span style="font-size:26px"><span style="font-family:tahoma">LEARN about One of Nature&#39\;s Most Powerful Gifts!</span><br />\n<span style="color:rgb(128\, 0\, 128)">&quot\;All About Essential Oils&quot\; by Anne Haring</span><br />\n<strong>Saturday\, April 23rd * 9:30-Noon</strong><br />\n<span style="color:rgb(0\, 128\, 0)">Network w/ Others as you enjoy a<br />\n<span style="font-size:20px">Southwest/Mexican Inspired Luncheon </span><span style="font-size:22px"><span style="font-size:20px"><em>infused w/ Essential Oils!</em></span></span></span></span></span><br />\n<span style="font-size:14px"><span style="font-size:16px"><span style="font-family:tahoma"><span style="color:rgb(128\, 0\, 128)">Call 563.659.8897 to <strong>Pre-Register by Friday\, April 15 </strong>* $19.00 (Tax &amp\; Gratuity Included)</span><br />\n<span style="font-size:18px">For More Information go to:&nbsp\; <a href="http://www.crossroadsofdewitt.com">www.crossroadsofdewitt.com</a></span></span></span></span><br />\n<br />\n&nbsp\;</div>\n
LOCATION:The Garden Caf at THE CROSSROADS Inspired Living 6th Avenue & 10th Street Downtown DeWitt
UID:e.1774.1291
SEQUENCE:3
DTSTAMP:20260420T153043Z
URL:https://business.dewittiowa.org/events/details/one-of-nature-s-most-powerful-gifts-all-about-essential-oils-04-23-2016-1291
END:VEVENT

END:VCALENDAR
