BEGIN:VCALENDAR
VERSION:2.0
PRODID:-//ChamberMaster//Event Calendar 2.0//EN
METHOD:PUBLISH
X-PUBLISHED-TTL:P3D
REFRESH-INTERVAL:P3D
CALSCALE:GREGORIAN
BEGIN:VEVENT
DTSTART:20150310T180000Z
DTEND:20150310T220000Z
X-MICROSOFT-CDO-ALLDAYEVENT:FALSE
SUMMARY:Open House for Dr. Jacob Cram
DESCRIPTION:To introduce new chiropractor Dr. Jacob Cram\, Hill Chiropractic will be having an Open House on Tuesday\, March 10th from 1:00-5:00pm. This is a no pressure opportunity to stop by and meet Dr. Cram and welcome him to the community. We will be serving snacks and refreshments and can provide office tours and will be available for questions about chiropractic and your health concerns.
X-ALT-DESC;FMTTYPE=text/html:To introduce new chiropractor Dr. Jacob Cram\, Hill Chiropractic will be having an Open House on Tuesday\, March 10th from 1:00-5:00pm. This is a no pressure opportunity to stop by and meet Dr. Cram and welcome him to the community. We will be serving snacks and refreshments and can provide office tours and will be available for questions about chiropractic and your health concerns.
LOCATION:Hill Chiropractic Office 602 12th St DeWitt
UID:e.1774.316
SEQUENCE:3
DTSTAMP:20260421T124015Z
URL:https://business.dewittiowa.org/events/details/open-house-for-dr-jacob-cram-03-10-2015-316
END:VEVENT

END:VCALENDAR
