BEGIN:VCALENDAR
VERSION:2.0
PRODID:-//ChamberMaster//Event Calendar 2.0//EN
METHOD:PUBLISH
X-PUBLISHED-TTL:P3D
REFRESH-INTERVAL:P3D
CALSCALE:GREGORIAN
BEGIN:VEVENT
DTSTART:20150531T000000Z
DTEND:20150531T040000Z
X-MICROSOFT-CDO-ALLDAYEVENT:FALSE
SUMMARY:Open to the Public - Live Music and Dining
DESCRIPTION:Adam Beck Live Music presented by the Froeschle Agency.   Saturday\, May 30th from 7pm to 10pm.\n\nOpen to the Public.  Come for dinner and stay for the Music.  Open dining 5:30-9:00pm.
X-ALT-DESC;FMTTYPE=text/html:<p><span style="font-family:arial\,sans-serif\; font-size:10pt">Adam Beck Live Music presented by the Froeschle Agency.&nbsp\;&nbsp\;&nbsp\;Saturday\, May 30th from 7pm to 10pm.<br />\nOpen to the Public.&nbsp\; Come for dinner and stay for the Music.&nbsp\; Open dining 5:30-9:00pm.</span><br />\n<br />\n&nbsp\;</p>\n\n<p>&nbsp\;</p>\n
LOCATION:Springbrook Country Club 2122 17th Avenue\, DeWitt
UID:e.1774.355
SEQUENCE:3
DTSTAMP:20260421T110348Z
URL:https://business.dewittiowa.org/events/details/open-to-the-public-live-music-and-dining-05-30-2015-355
END:VEVENT

END:VCALENDAR
