BEGIN:VCALENDAR
VERSION:2.0
PRODID:-//ChamberMaster//Event Calendar 2.0//EN
METHOD:PUBLISH
X-PUBLISHED-TTL:P3D
REFRESH-INTERVAL:P3D
CALSCALE:GREGORIAN
BEGIN:VEVENT
DTSTART;VALUE=DATE:20151010
DTEND;VALUE=DATE:20151011
TRANSP:TRANSPARENT
X-MICROSOFT-CDO-ALLDAYEVENT:TRUE
SUMMARY:Outlaw Fest
DESCRIPTION:Outlaw Outreach is a non profit organization holding a fundraiser for the Make-a-Wish foundation call Outlaw Fest-Truck Show & Bull Bash. The fun begins at 9am with the Kids Zone opening\, a Horse Show and the Truck Show. At 6pm the main event starts with a kids rodeo and at 7pm will start the bull riding and a band to follow. We will also be having vendors\, petting zoo\, the Happy Joe dog and much more. This is a great event for all ages for a good cause. Hope to see you there to enjoy in the fun.
X-ALT-DESC;FMTTYPE=text/html:Outlaw Outreach is a non profit organization holding a fundraiser for the Make-a-Wish foundation call Outlaw Fest-Truck Show &amp\; Bull Bash. The fun begins at 9am with the Kids Zone opening\, a Horse Show and the Truck Show. At 6pm the main event starts with a kids rodeo and at 7pm will start the bull riding and a band to follow. We will also be having vendors\, petting zoo\, the Happy Joe dog and much more. This is a great event for all ages for a good cause. Hope to see you there to enjoy in the fun.
LOCATION:Clinton County Fairgrounds 328 E 8th Street DeWitt\, Iowa
UID:e.1774.914
SEQUENCE:3
DTSTAMP:20260421T025318Z
URL:https://business.dewittiowa.org/events/details/outlaw-fest-10-10-2015-914
END:VEVENT

END:VCALENDAR
