BEGIN:VCALENDAR
VERSION:2.0
PRODID:-//ChamberMaster//Event Calendar 2.0//EN
METHOD:PUBLISH
X-PUBLISHED-TTL:P3D
REFRESH-INTERVAL:P3D
CALSCALE:GREGORIAN
BEGIN:VEVENT
DTSTART:20161001T000000Z
DTEND:20161001T030000Z
X-MICROSOFT-CDO-ALLDAYEVENT:FALSE
SUMMARY:Outstanding Live Music! End of Summer Blues.
DESCRIPTION:Open to the Public\, Live Music!  7:00-10:00pm\n\n\n\nEnd of Summer Blues.\n\nBuffett Available 6:00-8:00pm
X-ALT-DESC;FMTTYPE=text/html:Open to the Public\, Live Music!&nbsp\; 7:00-10:00pm<br />\n<br />\nEnd of Summer Blues.<br />\nBuffett Available 6:00-8:00pm
LOCATION:Springbrook
UID:e.1774.1608
SEQUENCE:3
DTSTAMP:20260420T074205Z
URL:https://business.dewittiowa.org/events/details/outstanding-live-music-end-of-summer-blues-1608
END:VEVENT

END:VCALENDAR
