BEGIN:VCALENDAR
VERSION:2.0
PRODID:-//ChamberMaster//Event Calendar 2.0//EN
METHOD:PUBLISH
X-PUBLISHED-TTL:P3D
REFRESH-INTERVAL:P3D
CALSCALE:GREGORIAN
BEGIN:VEVENT
DTSTART:20161018T203000Z
DTEND:20161018T213000Z
X-MICROSOFT-CDO-ALLDAYEVENT:FALSE
SUMMARY:Overview of Life Care Planning
DESCRIPTION:Join us for an overview of life care planning. This workshop will include topics such as\, Developing a Life Care Plan\, Guardianship\, Government Programs\, Letter of Intent\, Legal Instruments\, Special Needs Trust\, the ABLE Act\, and much more. Speakers: Donald G. Olsen\, CLU\, ChFC\, CASL\, CFS\, ChSNC\, Special Care Planner Patrick D. Olsen\, Special Care Planner
X-ALT-DESC;FMTTYPE=text/html:Join us for an overview of life care planning. This workshop will include topics such as\, Developing a Life Care Plan\, Guardianship\, Government Programs\, Letter of Intent\, Legal Instruments\, Special Needs Trust\, the ABLE Act\, and much more. Speakers: Donald G. Olsen\, CLU\, ChFC\, CASL\, CFS\, ChSNC\, Special Care Planner Patrick D. Olsen\, Special Care Planner
LOCATION:DAC DeWitt Administration Bldg 108 East Industrial Street DeWitt\, IA 52742
UID:e.1774.1627
SEQUENCE:3
DTSTAMP:20260420T061313Z
URL:https://business.dewittiowa.org/events/details/overview-of-life-care-planning-1627
END:VEVENT

END:VCALENDAR
