BEGIN:VCALENDAR
VERSION:2.0
PRODID:-//ChamberMaster//Event Calendar 2.0//EN
METHOD:PUBLISH
X-PUBLISHED-TTL:P3D
REFRESH-INTERVAL:P3D
CALSCALE:GREGORIAN
BEGIN:VEVENT
DTSTART:20161026T223000Z
DTEND:20161027T003000Z
X-MICROSOFT-CDO-ALLDAYEVENT:FALSE
SUMMARY:Painting for Pink
DESCRIPTION:Painting for Pink with Joan Reynolds teacher and featured artist.  Includes: canvas\, paints\, & a glass of wine.
X-ALT-DESC;FMTTYPE=text/html:Painting for Pink with Joan Reynolds teacher and featured artist.&nbsp\; Includes: canvas\, paints\, &amp\; a glass of wine.
LOCATION:Genesis Medical Center-DeWitt Clinic Basement
UID:e.1774.4282
SEQUENCE:3
DTSTAMP:20260420T061156Z
URL:https://business.dewittiowa.org/events/details/painting-for-pink-10-26-2016-4282
END:VEVENT

END:VCALENDAR
