BEGIN:VCALENDAR
VERSION:2.0
PRODID:-//ChamberMaster//Event Calendar 2.0//EN
METHOD:PUBLISH
X-PUBLISHED-TTL:P3D
REFRESH-INTERVAL:P3D
CALSCALE:GREGORIAN
BEGIN:VEVENT
DTSTART:20170704T120000Z
DTEND:20170704T150000Z
X-MICROSOFT-CDO-ALLDAYEVENT:FALSE
SUMMARY:Pancake Breakfast
DESCRIPTION:DeWitt Noon Lions Fundraiser Pancake Breakfast. Serving pancakes\, sausage\, eggs\, and applesauce.
X-ALT-DESC;FMTTYPE=text/html:DeWitt Noon Lions Fundraiser Pancake Breakfast. Serving pancakes\, sausage\, eggs\, and applesauce.
LOCATION:DeWitt Community Center 512 10th St. DeWitt\, IA
UID:e.1774.3096
SEQUENCE:3
DTSTAMP:20260419T164112Z
URL:https://business.dewittiowa.org/events/details/pancake-breakfast-3096
END:VEVENT

END:VCALENDAR
