BEGIN:VCALENDAR
VERSION:2.0
PRODID:-//ChamberMaster//Event Calendar 2.0//EN
METHOD:PUBLISH
X-PUBLISHED-TTL:P3D
REFRESH-INTERVAL:P3D
CALSCALE:GREGORIAN
BEGIN:VEVENT
DTSTART:20151027T223000Z
DTEND:20151028T000000Z
X-MICROSOFT-CDO-ALLDAYEVENT:FALSE
SUMMARY:Parade of Bands Meal
DESCRIPTION:Please join the Central Music Boosters at the Parade of Bands Meal. It includes a Sloppy Joe Sandwich\, Chips\, drink\, and dessert. Immediately following the meal at 7:00 will be a free concert featuring all band students 5th - 12th grade.
X-ALT-DESC;FMTTYPE=text/html:Please join the Central Music Boosters at the Parade of Bands Meal. It includes a Sloppy Joe Sandwich\, Chips\, drink\, and dessert. Immediately following the meal at 7:00 will be a free concert featuring all band students 5th - 12th grade.
LOCATION:Central DeWitt High School Atrium
UID:e.1774.1087
SEQUENCE:3
DTSTAMP:20260421T025620Z
URL:https://business.dewittiowa.org/events/details/parade-of-bands-meal-10-27-2015-1087
END:VEVENT

END:VCALENDAR
