BEGIN:VCALENDAR
VERSION:2.0
PRODID:-//ChamberMaster//Event Calendar 2.0//EN
METHOD:PUBLISH
X-PUBLISHED-TTL:P3D
REFRESH-INTERVAL:P3D
CALSCALE:GREGORIAN
BEGIN:VEVENT
DTSTART:20170313T233000Z
DTEND:20170314T010000Z
X-MICROSOFT-CDO-ALLDAYEVENT:FALSE
SUMMARY:Parent Support Group
DESCRIPTION:Do you have a child dealing with substance abuse issues? Do you feel like you are the only parent experiencing this? You're not alone! There is a Parent Support Group that meets to talk about their experiences with youth substance abuse issues in an informal\, non-judgmental setting.
X-ALT-DESC;FMTTYPE=text/html:Do you have a child dealing with substance abuse issues? Do you feel like you are the only parent experiencing this? You&rsquo\;re not alone! There is a Parent Support Group that meets to talk about their experiences with youth substance abuse issues in an informal\, non-judgmental setting.
LOCATION:Frances Banta Waggoner Community Library
UID:e.1774.1897
SEQUENCE:3
DTSTAMP:20260419T215559Z
URL:https://business.dewittiowa.org/events/details/parent-support-group-1897
END:VEVENT

END:VCALENDAR
