BEGIN:VCALENDAR
VERSION:2.0
PRODID:-//ChamberMaster//Event Calendar 2.0//EN
METHOD:PUBLISH
X-PUBLISHED-TTL:P3D
REFRESH-INTERVAL:P3D
CALSCALE:GREGORIAN
BEGIN:VEVENT
DTSTART:20170617T213000Z
DTEND:20170618T030000Z
X-MICROSOFT-CDO-ALLDAYEVENT:FALSE
SUMMARY:Paul Skeffington Memorial Race
DESCRIPTION:Held the 3rd Saturday in June\, the Paul Skeffington Memorial Race is celebrating its 30th anniversary in 2017.The Skeff Race is committed to making improvements in our community. Every year\, the Skeff Race dedicates its proceeds to DeWitt Parks and Recreation projects and awards two scholarships for Central High School seniors. This is a community event with kids activities and entertainment. Four bikes will be given to four lucky children under 12  that participate in the Fun Run! Join us at the Lincoln Park band shell after the race for a free concert provided by 42 Romeo\, a popular rock band of the 34th Iowa National Guard Army Band. Check them out here and on Facebook!
X-ALT-DESC;FMTTYPE=text/html:<span style="font-size:14px\;"><span style="font-family:arial\;">Held the 3rd Saturday in June\, the Paul Skeffington Memorial Race is celebrating its 30th anniversary in 2017.The Skeff Race is committed to making improvements in our community. Every year\, the Skeff Race dedicates its proceeds to DeWitt Parks and Recreation projects and awards two scholarships for Central High School seniors. This is a community event with kids activities and entertainment. Four<span style="color: rgb(0\, 0\, 0)\;">&nbsp\;bikes will be given to four lucky children under 12 &nbsp\;that participate in the Fun Run!&nbsp\;</span>Join us at the Lincoln Park band shell after the race for a free concert provided by 42 Romeo\, a popular rock band of the 34th Iowa National Guard Army Band. Check them out&nbsp\;<a href="http://www.iowanationalguard.com/History/34th%20Army%20Band/Pages/Home.aspx">here</a> and on <a href="https://www.facebook.com/34thArmyBand/?fref=nf">Facebook</a>!</span></span>
LOCATION:DeWitt Community Center and Lincoln Park
UID:e.1774.3098
SEQUENCE:3
DTSTAMP:20260419T165951Z
URL:https://business.dewittiowa.org/events/details/paul-skeffington-memorial-race-06-17-2017-3098
END:VEVENT

END:VCALENDAR
