BEGIN:VCALENDAR
VERSION:2.0
PRODID:-//ChamberMaster//Event Calendar 2.0//EN
METHOD:PUBLISH
X-PUBLISHED-TTL:P3D
REFRESH-INTERVAL:P3D
CALSCALE:GREGORIAN
BEGIN:VEVENT
DTSTART:20160618T213000Z
DTEND:20160619T030000Z
X-MICROSOFT-CDO-ALLDAYEVENT:FALSE
SUMMARY:Paul Skeffington Memorial Race
DESCRIPTION:Held the 3rd Saturday in June\, the Paul Skeffington Memorial Race is celebrating its 29th anniversary in 2016.The Skeff Race is committed to making improvements in our community. Every year\, the Skeff Race dedicates its proceeds to DeWitt Parks and Recreation projects and awards two scholarships for Central High School seniors.\nClick Here to register online! \n\nClick Here for a pdf of the registration form \n\n(Send completed forms with registration fee to \n\nPSMR\, PO Box 445\, DeWitt\, IA 52742-0445.)\n\nClick Here for information on the Corporate Challenge\n\n \n\nAfter the exciting race and fun run\, participants\, family\, friends\, sponsors\, anyone who wants to bring lawn chairs and beverages are invited to Lincoln Park for an evening of music and relaxation! Check out our website for more information come join in the fun!\n\n\n\n \n\nThe Paul Skeffington Memorial Race is looking stuffers \n\nto put in race participant's bags. \n\n\n In years past we have averaged around 500 runners.  \n\nPens\, notepads\, coupons\, flyers\, chap stick\, pill boxes\, band aids\, \n\nhave all been donated in the past.\n\n\n \n\nPlease contact Megan Fuglsang at \n\nmegan.fuglsang@fbfs.com by June 9.  \n\nStuffers must be delivered to Megan at 514 8th St.\, DeWitt\,\n\nby June 15.  \n\n \n\nHope to see you at the race on June 18 !
X-ALT-DESC;FMTTYPE=text/html:<span style="font-size:16px\;"><span style="font-family: arial\, helvetica\, sans-serif\;">Held the 3rd Saturday in June\, the Paul Skeffington Memorial Race is celebrating its 29th anniversary in 2016.The Skeff Race is committed to making improvements in our community. Every year\, the Skeff Race dedicates its proceeds to DeWitt Parks and Recreation projects and awards two scholarships for Central High School seniors.</span></span>\n<p class="MsoNormal" style="mso-pagination:none\;margin-bottom:14.0pt"><span style="font-size:16px\;"><a _mce_href="https://secure.getmeregistered.com/get_information.php?event_id=123013" _mce_shape="rect" _mce_style="color: #40395f\; text-decoration: underline\;" href="https://secure.getmeregistered.com/get_information.php?event_id=123013" linktype="1" shape="rect" style="color: rgb(64\, 57\, 95) !important\;" target="_blank" track="on">Click Here</a>&nbsp\;to register online!&nbsp\;<br />\n<a _mce_href="http://www.skeffrace.com/Skeffington%20Race%20Application%202016.pdf" _mce_shape="rect" _mce_style="color: #40395f\; text-decoration: underline\;" href="http://www.skeffrace.com/Skeffington%20Race%20Application%202016.pdf" linktype="1" shape="rect" style="color: rgb(64\, 57\, 95) !important\;" target="_blank" track="on">Click Here</a>&nbsp\;for a pdf of the registration form&nbsp\;<br />\n<span _mce_style="font-size: 10pt\;">(Send completed forms with registration fee to&nbsp\;<br />\nPSMR\, PO Box 445\, DeWitt\, IA 52742-0445.)</span><br />\n<a _mce_href="http://skeffrace.com/index.php/corporate-challenge" _mce_shape="rect" _mce_style="color: #40395f\; text-decoration: underline\;" href="http://skeffrace.com/index.php/corporate-challenge" linktype="1" shape="rect" style="color: rgb(64\, 57\, 95) !important\;" target="_blank" track="on">Click Here</a>&nbsp\;for information on the Corporate Challenge</span></p>\n\n<p class="MsoNormal" style="mso-pagination:none\;margin-bottom:14.0pt">&nbsp\;</p>\n\n<p class="MsoNormal" style="mso-pagination:none\;margin-bottom:14.0pt"><span style="font-size:16px\;"><span lang="en-US" style="font-family: Verdana\;">After the exciting race and fun run\, participants\, family\, friends\, sponsors\, anyone who wants to bring lawn chairs and beverages are invited to Lincoln Park for an evening of music and relaxation!</span><span lang="en-US" style="font-family: Verdana\; color: black\;">&nbsp\;Check out our website for more information&hellip\;come join in the fun!</span></span><br />\n<br />\n&nbsp\;</p>\n\n<div _mce_style="font-size: 12pt\; text-align: center\;" align="center" style="color: rgb(0\, 0\, 0)\; font-family: Corbel\, Geneva\, Verdana\, Arial\, sans-serif\; line-height: normal\; font-size: 12pt\; text-align: center\;"><span style="font-size:16px\;"><span style="font-family:arial\;"><strong>The Paul Skeffington Memorial Race is looking stuffers&nbsp\;</strong></span></span></div>\n\n<div _mce_style="font-size: 12pt\; text-align: center\;" align="center" style="color: rgb(0\, 0\, 0)\; font-family: Corbel\, Geneva\, Verdana\, Arial\, sans-serif\; line-height: normal\; font-size: 12pt\; text-align: center\;"><span style="font-size:16px\;"><span style="font-family:arial\;"><strong>to put in race participant&#39\;s bags.</strong>&nbsp\;</span></span></div>\n\n<div _mce_style="font-size: 12pt\; text-align: left\;" align="left" style="color: rgb(0\, 0\, 0)\; font-family: Corbel\, Geneva\, Verdana\, Arial\, sans-serif\; line-height: normal\; font-size: 12pt\;">\n<div _mce_style="text-align: center\;" align="center" style="text-align: center\;"><span style="font-size:16px\;"><span style="font-family:arial\;">&nbsp\;In years past we have averaged around 500 runners. &nbsp\;</span></span></div>\n\n<div _mce_style="text-align: center\;" align="center" style="text-align: center\;"><span style="font-size:16px\;"><span style="font-family:arial\;">Pens\, notepads\, coupons\, flyers\, chap stick\, pill boxes\, band aids\,&nbsp\;</span></span></div>\n\n<div _mce_style="text-align: center\;" align="center" style="text-align: center\;"><span style="font-size:16px\;"><span style="font-family:arial\;">have all been donated in the past.</span></span></div>\n</div>\n\n<div _mce_style="font-size: 12pt\; text-align: center\;" align="center" style="color: rgb(0\, 0\, 0)\; font-family: Corbel\, Geneva\, Verdana\, Arial\, sans-serif\; line-height: normal\; font-size: 12pt\; text-align: center\;">&nbsp\;</div>\n\n<div _mce_style="font-size: 12pt\; text-align: center\;" align="center" style="color: rgb(0\, 0\, 0)\; font-family: Corbel\, Geneva\, Verdana\, Arial\, sans-serif\; line-height: normal\; font-size: 12pt\; text-align: center\;"><span style="font-size:16px\;"><span style="font-family:arial\;">Please contact Megan Fuglsang at&nbsp\;</span></span></div>\n\n<div _mce_style="font-size: 12pt\; text-align: center\;" align="center" style="color: rgb(0\, 0\, 0)\; font-family: Corbel\, Geneva\, Verdana\, Arial\, sans-serif\; line-height: normal\; font-size: 12pt\; text-align: center\;"><span style="font-size:16px\;"><span style="font-family:arial\;"><a _mce_href="mailto:megan.fuglsang@fbfs.com" _mce_shape="rect" _mce_style="color: #40395f\; text-decoration: underline\;" href="mailto:megan.fuglsang@fbfs.com" linktype="2" shape="rect" style="color: rgb(64\, 57\, 95) !important\;" target="_blank">megan.fuglsang@fbfs.com</a><strong>&nbsp\;by June 9. &nbsp\;</strong></span></span></div>\n\n<div _mce_style="font-size: 12pt\; text-align: center\;" align="center" style="color: rgb(0\, 0\, 0)\; font-family: Corbel\, Geneva\, Verdana\, Arial\, sans-serif\; line-height: normal\; font-size: 12pt\; text-align: center\;"><span style="font-size:16px\;"><span style="font-family:arial\;">Stuffers must be delivered to Megan at 514 8th St.\, DeWitt\,</span></span></div>\n\n<div _mce_style="font-size: 12pt\; text-align: center\;" align="center" style="color: rgb(0\, 0\, 0)\; font-family: Corbel\, Geneva\, Verdana\, Arial\, sans-serif\; line-height: normal\; font-size: 12pt\; text-align: center\;"><span style="font-size:16px\;"><span style="font-family:arial\;"><strong>by June 15.</strong>&nbsp\;&nbsp\;</span></span></div>\n\n<div _mce_style="font-size: 12pt\; text-align: center\;" align="center" style="color: rgb(0\, 0\, 0)\; font-family: Corbel\, Geneva\, Verdana\, Arial\, sans-serif\; line-height: normal\; font-size: 12pt\; text-align: center\;">&nbsp\;</div>\n\n<div _mce_style="font-size: 12pt\; text-align: center\;" align="center" style="color: rgb(0\, 0\, 0)\; font-family: Corbel\, Geneva\, Verdana\, Arial\, sans-serif\; line-height: normal\; font-size: 12pt\; text-align: center\;"><span style="font-size:16px\;"><span style="font-family:arial\;">Hope to see you at the race on June 18 !&nbsp\;</span></span></div>\n\n<p class="MsoNormal"><span style="font-size:16px\;"><span style="font-family:arial\;"><span lang="en-US">&nbsp\;</span></span></span></p>\n
LOCATION:DeWitt Community Center and Lincoln Park
UID:e.1774.1286
SEQUENCE:3
DTSTAMP:20260420T140004Z
URL:https://business.dewittiowa.org/events/details/paul-skeffington-memorial-race-06-18-2016-1286
END:VEVENT

END:VCALENDAR
