BEGIN:VCALENDAR
VERSION:2.0
PRODID:-//ChamberMaster//Event Calendar 2.0//EN
METHOD:PUBLISH
X-PUBLISHED-TTL:P3D
REFRESH-INTERVAL:P3D
CALSCALE:GREGORIAN
BEGIN:VEVENT
DTSTART:20150620T223000Z
DTEND:20150621T020000Z
X-MICROSOFT-CDO-ALLDAYEVENT:FALSE
SUMMARY:Paul Skeffington Memorial Race
DESCRIPTION:Held the 3rd Saturday in June\, the Paul Skeffington Memorial Race is celebrating its 28th anniversary in 2015. Join us for the 5 mile Cornbelt Circuit Race\, 2 mile run/walk\, or free 1/2 mile fun run. \n\n\n\nThe Skeff Race is committed to making improvements in our community. Every year\, the Skeff Race dedicates its proceeds to DeWitt Parks and Recreation projects and awards two scholarships for Central High School seniors.\n\n\n\nPack you cooler and join us for the post-race party and live music in Lincoln Park!
X-ALT-DESC;FMTTYPE=text/html:<span style="font-family:arial\,helvetica\,sans-serif\; font-size:12.8000001907349px">Held the 3rd Saturday in June\, the Paul Skeffington Memorial Race is celebrating its 28th anniversary in 2015. Join us for the 5 mile Cornbelt Circuit Race\, 2 mile run/walk\, or free 1/2 mile fun run.&nbsp\;<br />\n<br />\nThe Skeff Race is committed to making improvements in our community. Every year\, the Skeff Race dedicates its proceeds to DeWitt Parks and Recreation projects and awards two scholarships for Central High School seniors.<br />\n<br />\nPack you cooler and join us for the post-race party and live music in Lincoln Park!</span>
LOCATION:DeWitt Community Center & Lincoln Park
UID:e.1774.485
SEQUENCE:3
DTSTAMP:20260421T075859Z
URL:https://business.dewittiowa.org/events/details/paul-skeffington-memorial-race-06-20-2015-485
END:VEVENT

END:VCALENDAR
