BEGIN:VCALENDAR
VERSION:2.0
PRODID:-//ChamberMaster//Event Calendar 2.0//EN
METHOD:PUBLISH
X-PUBLISHED-TTL:P3D
REFRESH-INTERVAL:P3D
CALSCALE:GREGORIAN
BEGIN:VEVENT
DTSTART:20170805T203000Z
DTEND:20170805T223000Z
X-MICROSOFT-CDO-ALLDAYEVENT:FALSE
SUMMARY:Peter and Wendy
DESCRIPTION:Join Peter\, Wendy\, Captain Hook and many more for a fanciful flight to Neverland and back when the Missoula Children's Theatre and more than 50 local children present an original musical adaptation of PETER AND WENDY.\n\nThis original musical production is part of the Missoula Children's Theatre's unique international touring project and is presented locally by the Central DeWitt Performing Arts Center.
X-ALT-DESC;FMTTYPE=text/html:<span style="color:rgb(51\, 51\, 51)\; font-family:arial\; font-size:13px"><span style="font-size:13pt">Join Peter\, Wendy\, Captain Hook and many more for a fanciful flight to Neverland and back when the Missoula Children&#39\;s Theatre and more than 50 local children present an original musical adaptation of PETER AND WENDY.</span></span><br />\n<span style="color:rgb(51\, 51\, 51)\; font-family:arial\; font-size:13px"><span style="font-size:13pt">This original musical production is part of the Missoula Children&#39\;s Theatre&#39\;s unique international touring project and is presented locally by the Central DeWitt Performing Arts Center.&nbsp\;</span></span>
LOCATION:CDPAC 519 E. 11th Street DeWitt\, IA 52742
UID:e.1774.3095
SEQUENCE:3
DTSTAMP:20260419T150553Z
URL:https://business.dewittiowa.org/events/details/peter-and-wendy-08-05-2017-3095
END:VEVENT

END:VCALENDAR
